BEGIN:VCALENDAR
VERSION:2.0
PRODID:-//Event Calendar - ECPv6.15.20//NONSGML v1.0//EN
CALSCALE:GREGORIAN
METHOD:PUBLISH
X-WR-CALNAME:Event Calendar
X-ORIGINAL-URL:https://shippingandtradingcalendar.com
X-WR-CALDESC:Events for Event Calendar
REFRESH-INTERVAL;VALUE=DURATION:PT1H
X-Robots-Tag:noindex
X-PUBLISHED-TTL:PT1H
BEGIN:VTIMEZONE
TZID:UTC
BEGIN:STANDARD
TZOFFSETFROM:+0000
TZOFFSETTO:+0000
TZNAME:UTC
DTSTART:20230101T000000
END:STANDARD
END:VTIMEZONE
BEGIN:VEVENT
DTSTART;VALUE=DATE:20241030
DTEND;VALUE=DATE:20241031
DTSTAMP:20260419T161736
CREATED:20231222T164831Z
LAST-MODIFIED:20240124T145331Z
UID:10000441-1730246400-1730332799@shippingandtradingcalendar.com
SUMMARY:5th Super Yacht Americas 2024 - USA
DESCRIPTION:
URL:https://shippingandtradingcalendar.com/event/5th-super-yacht-americas-2024/
LOCATION:Chigago\, USA\, Chicago\, United States
ATTACH;FMTTYPE=image/jpeg:https://shippingandtradingcalendar.com/wp-content/uploads/2023/12/6540d167ce6336bd77224a42_5th-Super-Yacht-Americas.jpeg
END:VEVENT
BEGIN:VEVENT
DTSTART;TZID=UTC:20241031T180000
DTEND;TZID=UTC:20241031T210000
DTSTAMP:20260419T161736
CREATED:20241015T142154Z
LAST-MODIFIED:20241015T142154Z
UID:10000589-1730397600-1730408400@shippingandtradingcalendar.com
SUMMARY:CommodityThursdays Cairo
DESCRIPTION:🚢 CommodityThursdays are your go-to regular networking drinks in the shipping and commodities trading sector. Join us for a fun and casual evening—purchase your own drinks and enjoy! 🥂 Feel free to share this invite with friends and colleagues. We are counting on you and can’t wait to welcome you! 🤝🌟
URL:https://shippingandtradingcalendar.com/event/commoditythursdays-cairo/
LOCATION:Baron Bistro\, Baron Hotel Cairo\, Egypt\, Cairo\, Egypt
CATEGORIES:Celender,Events
ATTACH;FMTTYPE=image/png:https://shippingandtradingcalendar.com/wp-content/uploads/2024/10/Cairo-October.png
END:VEVENT
BEGIN:VEVENT
DTSTART;VALUE=DATE:20241101
DTEND;VALUE=DATE:20241103
DTSTAMP:20260419T161736
CREATED:20231221T171120Z
LAST-MODIFIED:20240904T180406Z
UID:10000407-1730419200-1730591999@shippingandtradingcalendar.com
SUMMARY:GTR Africa London - Charting Africa’s trade trajectory from London - UK
DESCRIPTION:Having welcomed over 460 delegates in 2023\, GTR is excited for the UK’s leading and unrivalled Africa-focused trade and export financing conference\, GTR Africa London\, to return in November\, 2024. \nHear from over 50 key experts as they dive into the most prominent topics of discussion including the many challenges faced across African trade\, export\, and infrastructure finance\, and the rapidly changing dynamics of a turbulent global economic landscape and emerging opportunities for African trade. \nWith over 3 hours of networking opportunities\, including an evening networking reception\, don’t miss your chance to catch up with old friends and build those crucial new market connections. GTR looks forward to your return!
URL:https://shippingandtradingcalendar.com/event/gtr-africa-london-charting-africas-trade-trajectory-from-london/
LOCATION:London\, United kingdom\, London\, United Kingdom
CATEGORIES:Celender,Events
ATTACH;FMTTYPE=image/jpeg:https://shippingandtradingcalendar.com/wp-content/uploads/2023/12/Capture-decran-2023-12-21-a-18.10.21.jpg
END:VEVENT
BEGIN:VEVENT
DTSTART;VALUE=DATE:20241104
DTEND;VALUE=DATE:20241105
DTSTAMP:20260419T161736
CREATED:20240308T141531Z
LAST-MODIFIED:20240905T051703Z
UID:10000493-1730678400-1730764799@shippingandtradingcalendar.com
SUMMARY:Monaco Ship Energy Forum - Understanding decarbonisation - Monaco
DESCRIPTION:Understanding decarbonisation: Turning challenges into opportunities \nLocated in the unique and vibrant Principality of Monaco\, this high-level one-day forum will bring together industry experts\, regulators and thought leaders to examine what sustainability means for the shipping industry’s evolution and how it will inform the strategies and goals of all maritime stakeholders. \nWith its headline theme of ‘Understanding Decarbonisation: Turning Challenges into Opportunities\, the conference sessions will focus on the impact on shipping of recent and upcoming global and European environmental regulation\, the future fuel supply chain\, the shipping technology ‘revolution’\, corporate decarbonisation and ESG strategies\, and how to access the finance needed to deliver the maritime sector’s energy transition. \n 
URL:https://shippingandtradingcalendar.com/event/monaco-ship-energy-forum-understanding-decarbonisation-monaco/
LOCATION:Monaco\, Monaco\, Monaco
CATEGORIES:Celender,Events
ATTACH;FMTTYPE=image/jpeg:https://shippingandtradingcalendar.com/wp-content/uploads/2024/03/Capture-decran-2024-03-08-a-15.14.35-e1725513403526.jpg
END:VEVENT
BEGIN:VEVENT
DTSTART;VALUE=DATE:20241104
DTEND;VALUE=DATE:20241109
DTSTAMP:20260419T161736
CREATED:20240906T052818Z
LAST-MODIFIED:20240906T052818Z
UID:10000587-1730678400-1731110399@shippingandtradingcalendar.com
SUMMARY:African Energy Week (AEW) 2024
DESCRIPTION:
URL:https://shippingandtradingcalendar.com/event/african-energy-week-aew-2024/
LOCATION:Cape Town\, South Africa\, Cape Town\, South Africa
CATEGORIES:Celender,Events
ATTACH;FMTTYPE=image/jpeg:https://shippingandtradingcalendar.com/wp-content/uploads/2024/09/AEW_2024.jpg
END:VEVENT
BEGIN:VEVENT
DTSTART;VALUE=DATE:20241105
DTEND;VALUE=DATE:20241108
DTSTAMP:20260419T161736
CREATED:20240715T064322Z
LAST-MODIFIED:20240715T064322Z
UID:10000550-1730764800-1731023999@shippingandtradingcalendar.com
SUMMARY:3rd Argentina & LatAm Lithium Summit 2024
DESCRIPTION:
URL:https://shippingandtradingcalendar.com/event/3rd-argentina-latam-lithium-summit-2024/
CATEGORIES:Celender,Events
ATTACH;FMTTYPE=image/jpeg:https://shippingandtradingcalendar.com/wp-content/uploads/2024/07/Argentina2024.jpg
END:VEVENT
BEGIN:VEVENT
DTSTART;VALUE=DATE:20241105
DTEND;VALUE=DATE:20241108
DTSTAMP:20260419T161736
CREATED:20240711T182131Z
LAST-MODIFIED:20240711T182131Z
UID:10000549-1730764800-1731023999@shippingandtradingcalendar.com
SUMMARY:Chile Energy Transition 2024 Summit
DESCRIPTION:
URL:https://shippingandtradingcalendar.com/event/chile-energy-transition-2024-summit/
CATEGORIES:Celender,Events
ATTACH;FMTTYPE=image/jpeg:https://shippingandtradingcalendar.com/wp-content/uploads/2024/07/ChileEnergy2024.jpg
END:VEVENT
BEGIN:VEVENT
DTSTART;VALUE=DATE:20241106
DTEND;VALUE=DATE:20241107
DTSTAMP:20260419T161736
CREATED:20231222T164955Z
LAST-MODIFIED:20241021T135917Z
UID:10000442-1730851200-1730937599@shippingandtradingcalendar.com
SUMMARY:23rd Mare Forum Ship Finance 2024
DESCRIPTION:
URL:https://shippingandtradingcalendar.com/event/23rd-mare-forum-ship-finance-2024/
LOCATION:Rotterdam\, Netherlands\, Rotterdam\, Netherlands
CATEGORIES:Celender,Events
ATTACH;FMTTYPE=image/png:https://shippingandtradingcalendar.com/wp-content/uploads/2023/12/Screenshot-2024-10-21-at-15.57.12.png
END:VEVENT
BEGIN:VEVENT
DTSTART;VALUE=DATE:20241106
DTEND;VALUE=DATE:20241108
DTSTAMP:20260419T161736
CREATED:20240704T081133Z
LAST-MODIFIED:20240905T052131Z
UID:10000539-1730851200-1731023999@shippingandtradingcalendar.com
SUMMARY:Arctic Shipping Summit 2024 | 6-7 November
DESCRIPTION:
URL:https://shippingandtradingcalendar.com/event/arctic-shipping-summit-2024-6-7-november/
CATEGORIES:Celender,Events
ATTACH;FMTTYPE=image/jpeg:https://shippingandtradingcalendar.com/wp-content/uploads/2024/07/ARCTIC_SHIPPING_SUMMIT.jpg
END:VEVENT
BEGIN:VEVENT
DTSTART;VALUE=DATE:20241107
DTEND;VALUE=DATE:20241108
DTSTAMP:20260419T161736
CREATED:20240308T145239Z
LAST-MODIFIED:20240905T053129Z
UID:10000497-1730937600-1731023999@shippingandtradingcalendar.com
SUMMARY:GTR US - The leading event for the US trade\, supply chain\, working capital financing and risk management community
DESCRIPTION:Following spectacular attendance growth in 2023\, GTR US has once again affirmed its status as the leading event for the US trade\, supply chain\, working capital financing and risk management community. \nWith a record-breaking crowd of over 500 attendees at the previous instalment of this market-leading gathering\, the event is set to return to Manhattan on November 7\, 2024\, offering the latest insights into emerging trends and opportunities across the global trade and working capital financing space.
URL:https://shippingandtradingcalendar.com/event/gtr-us-the-leading-event-for-the-us-trade-supply-chain-working-capital-financing-and-risk-management-community/
LOCATION:New York\, USA\, New York\, United States
CATEGORIES:Celender,Events
ATTACH;FMTTYPE=image/jpeg:https://shippingandtradingcalendar.com/wp-content/uploads/2024/03/Capture-decran-2024-03-08-a-15.51.17-1.jpg
END:VEVENT
BEGIN:VEVENT
DTSTART;TZID=UTC:20241107T180000
DTEND;TZID=UTC:20241107T210000
DTSTAMP:20260419T161736
CREATED:20241017T143713Z
LAST-MODIFIED:20241023T123745Z
UID:10000605-1731002400-1731013200@shippingandtradingcalendar.com
SUMMARY:CommodityThursdays x TXF Commodity Week: Dealmakers Mixer - Switzerland
DESCRIPTION:Dealmakers Mixer will take place on Thursday 7 November from 6pm-9pm at The Foundry\, a stunning venue that pays homage to the city’s history as a commodities base. In true TXF style\, we’re revamping the approach to networking – combining ad hoc and spontaneous meetings with pre-scheduled dealmaking “dates”\, as well as arranging the networking space into a series of zones divided by sector. This will give attendees the best possible chance of turning drinks to deals as well as catching up with friends in a relaxed\, friendly manner. Join the leading lights of the industry\, as we welcome traders\, producers\, financiers\, lawyers\, insurers\, brokers\, exchanges\, collateral managers\, and more.
URL:https://shippingandtradingcalendar.com/event/txf-commodity-week-dealmakers-mixer-switzerland/
LOCATION:The Foundry\, Geneva\, Geneva\, Switzerland
CATEGORIES:Celender,Events
ATTACH;FMTTYPE=image/png:https://shippingandtradingcalendar.com/wp-content/uploads/2024/10/Geneva-Nov.png
END:VEVENT
BEGIN:VEVENT
DTSTART;VALUE=DATE:20241110
DTEND;VALUE=DATE:20241113
DTSTAMP:20260419T161736
CREATED:20241015T155851Z
LAST-MODIFIED:20241015T155851Z
UID:10000592-1731196800-1731455999@shippingandtradingcalendar.com
SUMMARY:Fastmarkets 40th International Ferroalloys 2024  - Turkey
DESCRIPTION:
URL:https://shippingandtradingcalendar.com/event/fastmarkets-40th-international-ferroalloys-2024-turkey/
LOCATION:Istanbul\, Turkey\, Istanbul\, Turkey
CATEGORIES:Celender,Events
END:VEVENT
BEGIN:VEVENT
DTSTART;VALUE=DATE:20241111
DTEND;VALUE=DATE:20241115
DTSTAMP:20260419T161736
CREATED:20240704T081706Z
LAST-MODIFIED:20240905T053624Z
UID:10000540-1731283200-1731628799@shippingandtradingcalendar.com
SUMMARY:Maritime & Logistics Zone | 11-14 November 2024
DESCRIPTION:
URL:https://shippingandtradingcalendar.com/event/maritime-logistics-zone-11-14-november-2024/
CATEGORIES:Celender,Events
ATTACH;FMTTYPE=image/jpeg:https://shippingandtradingcalendar.com/wp-content/uploads/2024/07/maritime_logistic_zone.jpg
END:VEVENT
BEGIN:VEVENT
DTSTART;VALUE=DATE:20241112
DTEND;VALUE=DATE:20241115
DTSTAMP:20260419T161736
CREATED:20240702T113038Z
LAST-MODIFIED:20241015T130543Z
UID:10000524-1731369600-1731628799@shippingandtradingcalendar.com
SUMMARY:Global Grain Geneva 2024
DESCRIPTION:Join 800+ global professionals to connect\, trade\, and exchange insights at this key grain trading event. \n📅 Nov 12-14\, 2024 📍 Geneva\, Switzerland \nMeet experts from 55+ countries and stay ahead on market trends and logistics. \n🔗 Register now!
URL:https://shippingandtradingcalendar.com/event/global-grain-geneva-2024/
LOCATION:Geneva\, Switzerland\, Geneva\, Switzerland
CATEGORIES:Celender,Events
ATTACH;FMTTYPE=image/png:https://shippingandtradingcalendar.com/wp-content/uploads/2024/07/fastmarkets.png
END:VEVENT
END:VCALENDAR