BEGIN:VCALENDAR
VERSION:2.0
PRODID:-//Event Calendar - ECPv6.15.20//NONSGML v1.0//EN
CALSCALE:GREGORIAN
METHOD:PUBLISH
X-WR-CALNAME:Event Calendar
X-ORIGINAL-URL:https://shippingandtradingcalendar.com
X-WR-CALDESC:Events for Event Calendar
REFRESH-INTERVAL;VALUE=DURATION:PT1H
X-Robots-Tag:noindex
X-PUBLISHED-TTL:PT1H
BEGIN:VTIMEZONE
TZID:UTC
BEGIN:STANDARD
TZOFFSETFROM:+0000
TZOFFSETTO:+0000
TZNAME:UTC
DTSTART:20240101T000000
END:STANDARD
END:VTIMEZONE
BEGIN:VEVENT
DTSTART;VALUE=DATE:20250219
DTEND;VALUE=DATE:20250221
DTSTAMP:20260419T173313
CREATED:20241017T153724Z
LAST-MODIFIED:20241017T153724Z
UID:10000612-1739923200-1740095999@shippingandtradingcalendar.com
SUMMARY:Commodity Trading Week APAC - Singapore
DESCRIPTION:  \n  \n  \n  \nBuilding on last year’s triumphant debut\, Commodity Trading Week APAC is returning for its second edition in 2025\, further solidifying its position as the premier event in the Asia Pacific region for the commodity industry. This follows 15 years of unparalleled success\, including our partnerships with esteemed organisations such as Enterprise Singapore.
URL:https://shippingandtradingcalendar.com/event/commodity-trading-week-apac-singapore/
LOCATION:Marina Bay Sands\, Singapore\, Singapore\, Singapore\, Singapore
CATEGORIES:Celender,Events
END:VEVENT
END:VCALENDAR